BEGIN:VCALENDAR
VERSION:2.0
PRODID:-//eventon.com NONSGML v1.0//EN
BEGIN:VEVENT
UID:69e81a427fab2
DTSTAMP:20260421T164554
DTSTART:20191026T190000Z
DTEND:20191026T203000Z
LOCATION:Flip Flop Ranch 9522 Donaldson Road
SUMMARY:Meet and Milk the goats!
DESCRIPTION: Have fun learning how to milk! When you arrive\,  you’ll be greeted with a cup of tea or coffee and a homemade pastry. After a nice chat\,  we'll grab our sunhats and head out to meet the animals. Out in the goat pen\,  we’ll learn how to hand milk our[..]
END:VEVENT
END:VCALENDAR